{
 "currentVersion": 10.91,
 "serviceDescription": "tc_dem20m",
 "name": "tc_dem20m",
 "description": "",
 "extent": {
  "xmin": 1.3409149553705052E7,
  "ymin": 2753057.045840739,
  "xmax": 1.3520768899113758E7,
  "ymax": 2808238.9680873714,
  "spatialReference": {
   "wkid": 102100,
   "latestWkid": 3857
  }
 },
 "initialExtent": {
  "xmin": 1.3409149553705052E7,
  "ymin": 2753057.045840739,
  "xmax": 1.3520768899113758E7,
  "ymax": 2808238.9680873714,
  "spatialReference": {
   "wkid": 102100,
   "latestWkid": 3857
  }
 },
 "fullExtent": {
  "xmin": 1.3409149553705052E7,
  "ymin": 2753057.045840739,
  "xmax": 1.3520768899113758E7,
  "ymax": 2808238.9680873714,
  "spatialReference": {
   "wkid": 102100,
   "latestWkid": 3857
  }
 },
 "hasMultidimensions": false,
 "pixelSizeX": 20,
 "pixelSizeY": 20,
 "datasetFormat": "GRID",
 "uncompressedSize": 61580880,
 "blockWidth": 256,
 "blockHeight": 16,
 "compressionType": "None",
 "bandNames": [
  "TC_DEM20M"
 ],
 "allowCopy": true,
 "allowAnalysis": true,
 "bandCount": 1,
 "noDataValue": -3.4028234663852886E38,
 "noDataValues": [
  -3.4028234663852886E38
 ],
 "pixelType": "F32",
 "minPixelSize": 4.777314267824117,
 "maxPixelSize": 156543.03392806067,
 "copyrightText": "",
 "serviceDataType": "esriImageServiceDataTypeGeneric",
 "serviceSourceType": "esriImageServiceSourceTypeDataset",
 "minValues": [
  -3.0999999046325684
 ],
 "maxValues": [
  3883.429931640625
 ],
 "meanValues": [
  1079.5692140027802
 ],
 "stdvValues": [
  1044.753904612503
 ],
 "objectIdField": "",
 "fields": [],
 "capabilities": "Image,Metadata,Mensuration",
 "defaultMosaicMethod": "Center",
 "allowedMosaicMethods": "",
 "sortField": "",
 "sortValue": null,
 "sortAscending": true,
 "mosaicOperator": "First",
 "defaultCompressionQuality": 75,
 "defaultResamplingMethod": "Bilinear",
 "maxImageHeight": 4100,
 "maxImageWidth": 15000,
 "singleFusedMapCache": true,
 "tileInfo": {
  "rows": 256,
  "cols": 256,
  "dpi": 91,
  "format": "LERC",
  "compressionQuality": 0,
  "lercError": 0.05,
  "origin": {
   "x": -2.003750834278925E7,
   "y": 2.003750834278925E7
  },
  "spatialReference": {
   "wkid": 102100,
   "latestWkid": 3857
  },
  "lods": [
   {
    "level": 0,
    "resolution": 156543.03392806067,
    "scale": 5.590822640287178E8
   },
   {
    "level": 1,
    "resolution": 78271.51696403034,
    "scale": 2.795411320143589E8
   },
   {
    "level": 2,
    "resolution": 39135.75848201517,
    "scale": 1.3977056600717944E8
   },
   {
    "level": 3,
    "resolution": 19567.879241007584,
    "scale": 6.988528300358972E7
   },
   {
    "level": 4,
    "resolution": 9783.939620503792,
    "scale": 3.494264150179486E7
   },
   {
    "level": 5,
    "resolution": 4891.969810251896,
    "scale": 1.747132075089743E7
   },
   {
    "level": 6,
    "resolution": 2445.984905125948,
    "scale": 8735660.375448715
   },
   {
    "level": 7,
    "resolution": 1222.992452562974,
    "scale": 4367830.1877243575
   },
   {
    "level": 8,
    "resolution": 611.496226281487,
    "scale": 2183915.0938621787
   },
   {
    "level": 9,
    "resolution": 305.7481131407435,
    "scale": 1091957.5469310894
   },
   {
    "level": 10,
    "resolution": 152.87405657037175,
    "scale": 545978.7734655447
   },
   {
    "level": 11,
    "resolution": 76.43702828518587,
    "scale": 272989.38673277234
   },
   {
    "level": 12,
    "resolution": 38.21851414259294,
    "scale": 136494.69336638617
   },
   {
    "level": 13,
    "resolution": 19.10925707129647,
    "scale": 68247.34668319309
   },
   {
    "level": 14,
    "resolution": 9.554628535648234,
    "scale": 34123.67334159654
   },
   {
    "level": 15,
    "resolution": 4.777314267824117,
    "scale": 17061.83667079827
   },
   {
    "level": 16,
    "resolution": 2.3886571339120586,
    "scale": 8530.918335399136
   },
   {
    "level": 17,
    "resolution": 1.1943285669560293,
    "scale": 4265.459167699568
   },
   {
    "level": 18,
    "resolution": 0.5971642834780146,
    "scale": 2132.729583849784
   },
   {
    "level": 19,
    "resolution": 0.2985821417390073,
    "scale": 1066.364791924892
   }
  ]
 },
 "storageInfo": {
  "storageFormat": "esriMapCacheStorageModeCompactV2",
  "packetSize": 128
 },
 "cacheType": "Elevation",
 "allowRasterFunction": true,
 "rasterFunctionInfos": [
  {
   "name": "None",
   "description": "",
   "help": ""
  }
 ],
 "rasterTypeInfos": [
  {
   "name": "Raster Dataset",
   "description": "Supports all ArcGIS Raster Datasets",
   "help": ""
  }
 ],
 "mensurationCapabilities": "Basic",
 "hasHistograms": false,
 "hasColormap": false,
 "hasRasterAttributeTable": false,
 "minScale": 5.590822640287178E8,
 "maxScale": 17061.83667079827,
 "minLOD": 0,
 "maxLOD": 15,
 "exportTilesAllowed": false,
 "supportsStatistics": false,
 "supportsAdvancedQueries": false,
 "editFieldsInfo": null,
 "ownershipBasedAccessControlForRasters": null,
 "allowComputeTiePoints": false,
 "useStandardizedQueries": true,
 "advancedQueryCapabilities": {
  "useStandardizedQueries": true,
  "supportsStatistics": false,
  "supportsOrderBy": false,
  "supportsDistinct": false,
  "supportsPagination": false
 },
 "spatialReference": {
  "wkid": 102100,
  "latestWkid": 3857
 }
}
