{
 "currentVersion": 10.81,
 "cimVersion": "2.9.0",
 "serviceDescription": "",
 "mapName": "地圖",
 "description": "",
 "copyrightText": "",
 "supportsDynamicLayers": false,
 "layers": [
  {
   "id": 4,
   "name": "租地 20220908 0350",
   "parentLayerId": -1,
   "defaultVisibility": true,
   "subLayerIds": null,
   "minScale": 0,
   "maxScale": 0,
   "type": "Feature Layer",
   "geometryType": "esriGeometryPolygon",
   "supportsDynamicLegends": true
  }
 ],
 "tables": [],
 "spatialReference": {
  "wkid": 102443,
  "latestWkid": 3826,
  "xyTolerance": 0.001,
  "zTolerance": 0.001,
  "mTolerance": 0.001,
  "falseX": -5372600,
  "falseY": -10001100,
  "xyUnits": 10000,
  "falseZ": -100000,
  "zUnits": 10000,
  "falseM": -100000,
  "mUnits": 10000
 },
 "singleFusedMapCache": true,
 "tileInfo": {
  "rows": 256,
  "cols": 256,
  "dpi": 96,
  "format": "PNG",
  "compressionQuality": 0,
  "origin": {
   "x": -9750964.53265511,
   "y": 1.000096453265511E7
  },
  "spatialReference": {
   "wkid": 102443,
   "latestWkid": 3826,
   "xyTolerance": 0.001,
   "zTolerance": 0.001,
   "mTolerance": 0.001,
   "falseX": -5372600,
   "falseY": -10001100,
   "xyUnits": 10000,
   "falseZ": -100000,
   "zUnits": 10000,
   "falseM": -100000,
   "mUnits": 10000
  },
  "lods": [
   {
    "level": 0,
    "resolution": 78132.53541136805,
    "scale": 2.9530407084611547E8
   },
   {
    "level": 1,
    "resolution": 39066.267705684026,
    "scale": 1.4765203542305773E8
   },
   {
    "level": 2,
    "resolution": 19533.133852842013,
    "scale": 7.382601771152887E7
   },
   {
    "level": 3,
    "resolution": 9766.566926421006,
    "scale": 3.6913008855764434E7
   },
   {
    "level": 4,
    "resolution": 4883.283463210503,
    "scale": 1.8456504427882217E7
   },
   {
    "level": 5,
    "resolution": 2441.6417316052516,
    "scale": 9228252.213941108
   },
   {
    "level": 6,
    "resolution": 1220.8208658026258,
    "scale": 4614126.106970554
   },
   {
    "level": 7,
    "resolution": 610.4104329013129,
    "scale": 2307063.053485277
   },
   {
    "level": 8,
    "resolution": 305.20521645065645,
    "scale": 1153531.5267426386
   },
   {
    "level": 9,
    "resolution": 152.60260822532823,
    "scale": 576765.7633713193
   },
   {
    "level": 10,
    "resolution": 76.30130411266411,
    "scale": 288382.88168565964
   },
   {
    "level": 11,
    "resolution": 38.150652056332056,
    "scale": 144191.44084282982
   },
   {
    "level": 12,
    "resolution": 19.075326028166028,
    "scale": 72095.72042141491
   },
   {
    "level": 13,
    "resolution": 9.537663014083014,
    "scale": 36047.860210707455
   },
   {
    "level": 14,
    "resolution": 4.768831507041507,
    "scale": 18023.930105353727
   },
   {
    "level": 15,
    "resolution": 2.3844157535207535,
    "scale": 9011.965052676864
   },
   {
    "level": 16,
    "resolution": 1.1922078767603768,
    "scale": 4505.982526338432
   },
   {
    "level": 17,
    "resolution": 0.5961039383801884,
    "scale": 2252.991263169216
   },
   {
    "level": 18,
    "resolution": 0.2980519691900942,
    "scale": 1126.495631584608
   }
  ]
 },
 "storageInfo": {
  "storageFormat": "esriMapCacheStorageModeCompactV2",
  "packetSize": 128
 },
 "initialExtent": {
  "xmin": 239203.15369703795,
  "ymin": 2693641.9414566043,
  "xmax": 262551.27379116556,
  "ymax": 2710769.0803433037,
  "spatialReference": {
   "wkid": 102443,
   "latestWkid": 3826,
   "xyTolerance": 0.001,
   "zTolerance": 0.001,
   "mTolerance": 0.001,
   "falseX": -5372600,
   "falseY": -10001100,
   "xyUnits": 10000,
   "falseZ": -100000,
   "zUnits": 10000,
   "falseM": -100000,
   "mUnits": 10000
  }
 },
 "fullExtent": {
  "xmin": 245788.86024137124,
  "ymin": 2699499.0920896977,
  "xmax": 250465.544786229,
  "ymax": 2702976.1968108183,
  "spatialReference": {
   "wkid": 102443,
   "latestWkid": 3826,
   "xyTolerance": 0.001,
   "zTolerance": 0.001,
   "mTolerance": 0.001,
   "falseX": -5372600,
   "falseY": -10001100,
   "xyUnits": 10000,
   "falseZ": -100000,
   "zUnits": 10000,
   "falseM": -100000,
   "mUnits": 10000
  }
 },
 "datesInUnknownTimezone": false,
 "units": "esriMeters",
 "supportedImageFormatTypes": "PNG32,PNG24,PNG,JPG,DIB,TIFF,EMF,PS,PDF,GIF,SVG,SVGZ,BMP",
 "documentInfo": {
  "Title": "C:\\Users\\student\\Documents\\ArcGIS\\Projects\\20220908\\20220908.aprx",
  "Author": "",
  "Comments": "",
  "Subject": "",
  "Category": "",
  "AntialiasingMode": "None",
  "TextAntialiasingMode": "Force",
  "Version": "2.9.0",
  "Keywords": ""
 },
 "supportedQueryFormats": "JSON, geoJSON, PBF",
 "referenceScale": 0.0,
 "datumTransformations": [
  {
   "geoTransforms": [
    {
     "wkid": 108854,
     "latestWkid": 3830,
     "transformForward": false,
     "name": "TWD_1997_To_WGS_1984_1"
    }
   ]
  },
  {
   "geoTransforms": [
    {
     "wkid": 108854,
     "latestWkid": 3830,
     "transformForward": true,
     "name": "TWD_1997_To_WGS_1984_1"
    }
   ]
  }
 ],
 "supportsDatumTransformation": true,
 "floorAwareMapProperties": {
  "defaultFloorFilterSettings": {
   "isEnabled": true
  }
 },
 "archivingInfo": {
  "supportsHistoricMoment": false
 },
 "supportsClipping": true,
 "supportsSpatialFilter": true,
 "supportsTimeRelation": true,
 "supportsQueryDataElements": true,
 "maxRecordCount": 1000,
 "maxImageHeight": 4096,
 "maxImageWidth": 4096,
 "capabilities": "TilesOnly,Tilemap",
 "minScale": 36047.860210707455,
 "maxScale": 4505.982526338432,
 "exportTilesAllowed": false,
 "maxExportTilesCount": 100000,
 "supportedExtensions": "",
 "serviceItemId": "59a7396fd8af4726b3f91b8268f4a89d"
}
